BEGIN:VCALENDAR
VERSION:2.0
PRODID:-//R.E.A.L. (Rational Emotional Affective Learning) - ECPv5.1.5//NONSGML v1.0//EN
CALSCALE:GREGORIAN
METHOD:PUBLISH
X-WR-CALNAME:R.E.A.L. (Rational Emotional Affective Learning)
X-ORIGINAL-URL:https://www.acle.it
X-WR-CALDESC:Eventi per R.E.A.L. (Rational Emotional Affective Learning)
BEGIN:VTIMEZONE
TZID:Europe/Helsinki
BEGIN:DAYLIGHT
TZOFFSETFROM:+0200
TZOFFSETTO:+0300
TZNAME:EEST
DTSTART:20180325T010000
END:DAYLIGHT
BEGIN:STANDARD
TZOFFSETFROM:+0300
TZOFFSETTO:+0200
TZNAME:EET
DTSTART:20181028T010000
END:STANDARD
END:VTIMEZONE
BEGIN:VEVENT
DTSTART;VALUE=DATE:20180123
DTEND;VALUE=DATE:20180124
DTSTAMP:20260422T064214
CREATED:20171215T102059Z
LAST-MODIFIED:20171215T102059Z
UID:6300-1516665600-1516751999@www.acle.it
SUMMARY:VICENZA (VI)
DESCRIPTION:COME RINNOVARE LA NOSTRA AZIONE EDUCATIVA CON L’APPROCCIO REAL DELL’ACLE \nSCARICA PROGRAMMA \nSCARICA SCHEDA DI ISCRIZIONE \n
URL:https://www.acle.it/event/vicenza-vi/
END:VEVENT
END:VCALENDAR