BEGIN:VCALENDAR
VERSION:2.0
PRODID:-//R.E.A.L. (Rational Emotional Affective Learning) - ECPv5.1.5//NONSGML v1.0//EN
CALSCALE:GREGORIAN
METHOD:PUBLISH
X-WR-CALNAME:R.E.A.L. (Rational Emotional Affective Learning)
X-ORIGINAL-URL:https://www.acle.it
X-WR-CALDESC:Eventi per R.E.A.L. (Rational Emotional Affective Learning)
BEGIN:VTIMEZONE
TZID:Europe/Helsinki
BEGIN:DAYLIGHT
TZOFFSETFROM:+0200
TZOFFSETTO:+0300
TZNAME:EEST
DTSTART:20120325T010000
END:DAYLIGHT
BEGIN:STANDARD
TZOFFSETFROM:+0300
TZOFFSETTO:+0200
TZNAME:EET
DTSTART:20121028T010000
END:STANDARD
END:VTIMEZONE
BEGIN:VEVENT
DTSTART;TZID=Europe/Helsinki:20121123T143000
DTEND;TZID=Europe/Helsinki:20121123T180000
DTSTAMP:20260421T174214
CREATED:20121026T163547Z
LAST-MODIFIED:20121026T163547Z
UID:1816-1353681000-1353693600@www.acle.it
SUMMARY:TRENTO
DESCRIPTION:Corso di grafologia \nScarica locandina e scheda di iscrizione \nLocandina Corso grafologia \nCorso Grafologia MOD. ISCRIZIONE \n  \n
URL:https://www.acle.it/event/trento/
LOCATION:Collegio Arcivescovile “Endrici”\, Via Celestino Endrici 23\, Trento\, Italia
ORGANIZER;CN="ACLE%20TRIVENETO":MAILTO:info@lelinguenelmondo.it
END:VEVENT
END:VCALENDAR