BEGIN:VCALENDAR
VERSION:2.0
PRODID:-//R.E.A.L. (Rational Emotional Affective Learning) - ECPv5.1.5//NONSGML v1.0//EN
CALSCALE:GREGORIAN
METHOD:PUBLISH
X-WR-CALNAME:R.E.A.L. (Rational Emotional Affective Learning)
X-ORIGINAL-URL:https://www.acle.it
X-WR-CALDESC:Eventi per R.E.A.L. (Rational Emotional Affective Learning)
BEGIN:VTIMEZONE
TZID:Europe/Helsinki
BEGIN:DAYLIGHT
TZOFFSETFROM:+0200
TZOFFSETTO:+0300
TZNAME:EEST
DTSTART:20130331T010000
END:DAYLIGHT
BEGIN:STANDARD
TZOFFSETFROM:+0300
TZOFFSETTO:+0200
TZNAME:EET
DTSTART:20131027T010000
END:STANDARD
END:VTIMEZONE
BEGIN:VEVENT
DTSTART;TZID=Europe/Helsinki:20130218T150000
DTEND;TZID=Europe/Helsinki:20130218T180000
DTSTAMP:20260419T145406
CREATED:20130129T124200Z
LAST-MODIFIED:20130129T124200Z
UID:2298-1361199600-1361210400@www.acle.it
SUMMARY:TORRE DEL GRECO
DESCRIPTION:CREATIVE APPROACHES \nCorso per Docenti di inglese della Scuola Primaria e Secondaria di I grado. \nScarica locandina e iscrizione \nlocandina torre del greco \n  \n
URL:https://www.acle.it/event/torre-del-greco/
LOCATION:c/o Istituto Comprensivo “Giacomo Leopardi”\, Via Comandante Giovanni Battista della Gatta\, 2\, Torre del Greco \, Italia
ORGANIZER;CN="ACLE%20SUD":MAILTO:sud@acle.it
END:VEVENT
END:VCALENDAR