BEGIN:VCALENDAR
VERSION:2.0
PRODID:-//R.E.A.L. (Rational Emotional Affective Learning) - ECPv5.1.5//NONSGML v1.0//EN
CALSCALE:GREGORIAN
METHOD:PUBLISH
X-WR-CALNAME:R.E.A.L. (Rational Emotional Affective Learning)
X-ORIGINAL-URL:https://www.acle.it
X-WR-CALDESC:Eventi per R.E.A.L. (Rational Emotional Affective Learning)
BEGIN:VTIMEZONE
TZID:Europe/Helsinki
BEGIN:DAYLIGHT
TZOFFSETFROM:+0200
TZOFFSETTO:+0300
TZNAME:EEST
DTSTART:20140330T010000
END:DAYLIGHT
BEGIN:STANDARD
TZOFFSETFROM:+0300
TZOFFSETTO:+0200
TZNAME:EET
DTSTART:20141026T010000
END:STANDARD
END:VTIMEZONE
BEGIN:VEVENT
DTSTART;VALUE=DATE:20140510
DTEND;VALUE=DATE:20140511
DTSTAMP:20260423T122353
CREATED:20131029T142855Z
LAST-MODIFIED:20140430T093919Z
UID:3082-1399680000-1399766399@www.acle.it
SUMMARY:PAESTUM  - Orientation Camp Directors
DESCRIPTION:INVITO ORIENTATIONS 2014 \n
URL:https://www.acle.it/event/paestum-orientation-camp-directors/
END:VEVENT
END:VCALENDAR