BEGIN:VCALENDAR
VERSION:2.0
PRODID:-//R.E.A.L. (Rational Emotional Affective Learning) - ECPv5.1.5//NONSGML v1.0//EN
CALSCALE:GREGORIAN
METHOD:PUBLISH
X-WR-CALNAME:R.E.A.L. (Rational Emotional Affective Learning)
X-ORIGINAL-URL:https://www.acle.it
X-WR-CALDESC:Eventi per R.E.A.L. (Rational Emotional Affective Learning)
BEGIN:VTIMEZONE
TZID:Europe/Helsinki
BEGIN:DAYLIGHT
TZOFFSETFROM:+0200
TZOFFSETTO:+0300
TZNAME:EEST
DTSTART:20180325T010000
END:DAYLIGHT
BEGIN:STANDARD
TZOFFSETFROM:+0300
TZOFFSETTO:+0200
TZNAME:EET
DTSTART:20181028T010000
END:STANDARD
END:VTIMEZONE
BEGIN:VEVENT
DTSTART;VALUE=DATE:20180831
DTEND;VALUE=DATE:20180903
DTSTAMP:20260421T192034
CREATED:20171102T115448Z
LAST-MODIFIED:20180702T095442Z
UID:6133-1535673600-1535932799@www.acle.it
SUMMARY:Nevegal (BL)
DESCRIPTION:LE LINGUE IN GIOCO CON MOVIMENTI INTELLIGENTI\nSCARICA IL PROGRAMMA \n
URL:https://www.acle.it/event/nevegal-belluno-dolomiti/
END:VEVENT
END:VCALENDAR