BEGIN:VCALENDAR
VERSION:2.0
PRODID:-//R.E.A.L. (Rational Emotional Affective Learning) - ECPv5.1.5//NONSGML v1.0//EN
CALSCALE:GREGORIAN
METHOD:PUBLISH
X-WR-CALNAME:R.E.A.L. (Rational Emotional Affective Learning)
X-ORIGINAL-URL:https://www.acle.it
X-WR-CALDESC:Eventi per R.E.A.L. (Rational Emotional Affective Learning)
BEGIN:VTIMEZONE
TZID:Europe/Helsinki
BEGIN:DAYLIGHT
TZOFFSETFROM:+0200
TZOFFSETTO:+0300
TZNAME:EEST
DTSTART:20180325T010000
END:DAYLIGHT
BEGIN:STANDARD
TZOFFSETFROM:+0300
TZOFFSETTO:+0200
TZNAME:EET
DTSTART:20181028T010000
END:STANDARD
END:VTIMEZONE
BEGIN:VEVENT
DTSTART;VALUE=DATE:20181108
DTEND;VALUE=DATE:20181109
DTSTAMP:20260421T144117
CREATED:20181001T110523Z
LAST-MODIFIED:20181004T100313Z
UID:6917-1541635200-1541721599@www.acle.it
SUMMARY:ROMA (RM)
DESCRIPTION:STRATEGIE PER IL MIGLIORAMENTO DELLE COMPETENZE DI COMPRENSIONE \n  \nSCARICA PROGRAMMA  SCARICA SCHEDA DI ISCRIZIONE \n  \n
URL:https://www.acle.it/event/milano-mi/
END:VEVENT
END:VCALENDAR