BEGIN:VCALENDAR
VERSION:2.0
PRODID:-//R.E.A.L. (Rational Emotional Affective Learning) - ECPv5.1.5//NONSGML v1.0//EN
CALSCALE:GREGORIAN
METHOD:PUBLISH
X-WR-CALNAME:R.E.A.L. (Rational Emotional Affective Learning)
X-ORIGINAL-URL:https://www.acle.it
X-WR-CALDESC:Eventi per R.E.A.L. (Rational Emotional Affective Learning)
BEGIN:VTIMEZONE
TZID:Europe/Helsinki
BEGIN:DAYLIGHT
TZOFFSETFROM:+0200
TZOFFSETTO:+0300
TZNAME:EEST
DTSTART:20150329T010000
END:DAYLIGHT
BEGIN:STANDARD
TZOFFSETFROM:+0300
TZOFFSETTO:+0200
TZNAME:EET
DTSTART:20151025T010000
END:STANDARD
END:VTIMEZONE
BEGIN:VEVENT
DTSTART;VALUE=DATE:20150214
DTEND;VALUE=DATE:20150215
DTSTAMP:20260421T095238
CREATED:20150115T092614Z
LAST-MODIFIED:20150115T092716Z
UID:4601-1423872000-1423958399@www.acle.it
SUMMARY:MILANO - Formazione docenti
DESCRIPTION:SCARICA PROGRAMMA \nSCARICA SCHEDA DI ISCRIZIONE \n
URL:https://www.acle.it/event/milano-3/
END:VEVENT
END:VCALENDAR