BEGIN:VCALENDAR
VERSION:2.0
PRODID:-//R.E.A.L. (Rational Emotional Affective Learning) - ECPv5.1.5//NONSGML v1.0//EN
CALSCALE:GREGORIAN
METHOD:PUBLISH
X-WR-CALNAME:R.E.A.L. (Rational Emotional Affective Learning)
X-ORIGINAL-URL:https://www.acle.it
X-WR-CALDESC:Eventi per R.E.A.L. (Rational Emotional Affective Learning)
BEGIN:VTIMEZONE
TZID:Europe/Helsinki
BEGIN:DAYLIGHT
TZOFFSETFROM:+0200
TZOFFSETTO:+0300
TZNAME:EEST
DTSTART:20120325T010000
END:DAYLIGHT
BEGIN:STANDARD
TZOFFSETFROM:+0300
TZOFFSETTO:+0200
TZNAME:EET
DTSTART:20121028T010000
END:STANDARD
END:VTIMEZONE
BEGIN:VEVENT
DTSTART;TZID=Europe/Helsinki:20121201T080000
DTEND;TZID=Europe/Helsinki:20121201T200000
DTSTAMP:20260421T101137
CREATED:20121019T102535Z
LAST-MODIFIED:20121019T150314Z
UID:1627-1354348800-1354392000@www.acle.it
SUMMARY:LONDON Information Technology
DESCRIPTION:ACLE vi propone una nuova singolare esperienza a Londra per scoprire come gli strumenti informatici ( IT = Information Technology) vengono usati in una scuola dell’eccellenza. \nIscrizione chiuse per esaurimento posti \n
URL:https://www.acle.it/event/london-information-technology-2/
LOCATION:London\, London\, United Kingdom
END:VEVENT
END:VCALENDAR