BEGIN:VCALENDAR
VERSION:2.0
PRODID:-//R.E.A.L. (Rational Emotional Affective Learning) - ECPv5.1.5//NONSGML v1.0//EN
CALSCALE:GREGORIAN
METHOD:PUBLISH
X-WR-CALNAME:R.E.A.L. (Rational Emotional Affective Learning)
X-ORIGINAL-URL:https://www.acle.it
X-WR-CALDESC:Eventi per R.E.A.L. (Rational Emotional Affective Learning)
BEGIN:VTIMEZONE
TZID:Europe/Helsinki
BEGIN:DAYLIGHT
TZOFFSETFROM:+0200
TZOFFSETTO:+0300
TZNAME:EEST
DTSTART:20130331T010000
END:DAYLIGHT
BEGIN:STANDARD
TZOFFSETFROM:+0300
TZOFFSETTO:+0200
TZNAME:EET
DTSTART:20131027T010000
END:STANDARD
END:VTIMEZONE
BEGIN:VEVENT
DTSTART;TZID=Europe/Helsinki:20130226T150000
DTEND;TZID=Europe/Helsinki:20130227T180000
DTSTAMP:20260421T112616
CREATED:20130129T123006Z
LAST-MODIFIED:20130130T101803Z
UID:2280-1361890800-1361988000@www.acle.it
SUMMARY:LAMEZIA TERME
DESCRIPTION:CREATIVE APPROACHES \nCorso per Docenti di inglese della Scuola Primaria e Secondaria di I grado. \nScarica locandina e iscrizione \nLOCANDINA LAMEZIA TERME \n
URL:https://www.acle.it/event/lamezia-terme/
LOCATION:c/o Istituto Comprensivo “Don Milani”\, via Maggiordomo\, Lamezia Terme\, Italia
ORGANIZER;CN="ACLE%20SUD":MAILTO:sud@acle.it
END:VEVENT
END:VCALENDAR