BEGIN:VCALENDAR
VERSION:2.0
PRODID:-//R.E.A.L. (Rational Emotional Affective Learning) - ECPv5.1.5//NONSGML v1.0//EN
CALSCALE:GREGORIAN
METHOD:PUBLISH
X-WR-CALNAME:R.E.A.L. (Rational Emotional Affective Learning)
X-ORIGINAL-URL:https://www.acle.it
X-WR-CALDESC:Eventi per R.E.A.L. (Rational Emotional Affective Learning)
BEGIN:VTIMEZONE
TZID:Europe/Helsinki
BEGIN:DAYLIGHT
TZOFFSETFROM:+0200
TZOFFSETTO:+0300
TZNAME:EEST
DTSTART:20130331T010000
END:DAYLIGHT
BEGIN:STANDARD
TZOFFSETFROM:+0300
TZOFFSETTO:+0200
TZNAME:EET
DTSTART:20131027T010000
END:STANDARD
END:VTIMEZONE
BEGIN:VEVENT
DTSTART;TZID=Europe/Helsinki:20130312T143000
DTEND;TZID=Europe/Helsinki:20130312T180000
DTSTAMP:20260419T164406
CREATED:20130304T144552Z
LAST-MODIFIED:20130304T144552Z
UID:2369-1363098600-1363111200@www.acle.it
SUMMARY:LAMEZIA TERME
DESCRIPTION:CREATING MOTIVATION  THROUGH  DRAMA AND PLAY \nCorso per Docenti di inglese della scuola primaria e secondaria di I grado \nScarica locandina e iscrizione \nlocandina Lamezia \nMODULO DI ISCRIZIONE Lamezia \n
URL:https://www.acle.it/event/lamezia-terme-2/
LOCATION:Grand Hotel Lamezia\, Piazza Lamezia\, Lamezia Terme\, Italia
ORGANIZER;CN="ACLE%20SUD":MAILTO:sud@acle.it
END:VEVENT
END:VCALENDAR