BEGIN:VCALENDAR
VERSION:2.0
PRODID:-//R.E.A.L. (Rational Emotional Affective Learning) - ECPv5.1.5//NONSGML v1.0//EN
CALSCALE:GREGORIAN
METHOD:PUBLISH
X-WR-CALNAME:R.E.A.L. (Rational Emotional Affective Learning)
X-ORIGINAL-URL:https://www.acle.it
X-WR-CALDESC:Eventi per R.E.A.L. (Rational Emotional Affective Learning)
BEGIN:VTIMEZONE
TZID:Europe/Helsinki
BEGIN:DAYLIGHT
TZOFFSETFROM:+0200
TZOFFSETTO:+0300
TZNAME:EEST
DTSTART:20120325T010000
END:DAYLIGHT
BEGIN:STANDARD
TZOFFSETFROM:+0300
TZOFFSETTO:+0200
TZNAME:EET
DTSTART:20121028T010000
END:STANDARD
END:VTIMEZONE
BEGIN:VEVENT
DTSTART;TZID=Europe/Helsinki:20121024T153000
DTEND;TZID=Europe/Helsinki:20121024T183000
DTSTAMP:20260421T112627
CREATED:20121019T100613Z
LAST-MODIFIED:20121019T162027Z
UID:1609-1351092600-1351103400@www.acle.it
SUMMARY:ISOLA DELLA SCALA -VR-
DESCRIPTION:Are you interested in fresh\, innovative ideas for your English classroom \nScarica locandina e scheda di iscrizione \nInvito Corso formazione 2012-13 Verona \n
URL:https://www.acle.it/event/isola-della-scala-2/
LOCATION:Isola della Scala\, Verona\, Italia
END:VEVENT
END:VCALENDAR