BEGIN:VCALENDAR
VERSION:2.0
PRODID:-//R.E.A.L. (Rational Emotional Affective Learning) - ECPv5.1.5//NONSGML v1.0//EN
CALSCALE:GREGORIAN
METHOD:PUBLISH
X-WR-CALNAME:R.E.A.L. (Rational Emotional Affective Learning)
X-ORIGINAL-URL:https://www.acle.it
X-WR-CALDESC:Eventi per R.E.A.L. (Rational Emotional Affective Learning)
BEGIN:VTIMEZONE
TZID:Europe/Helsinki
BEGIN:DAYLIGHT
TZOFFSETFROM:+0200
TZOFFSETTO:+0300
TZNAME:EEST
DTSTART:20130331T010000
END:DAYLIGHT
BEGIN:STANDARD
TZOFFSETFROM:+0300
TZOFFSETTO:+0200
TZNAME:EET
DTSTART:20131027T010000
END:STANDARD
END:VTIMEZONE
BEGIN:VEVENT
DTSTART;TZID=Europe/Helsinki:20130422T153000
DTEND;TZID=Europe/Helsinki:20130422T174500
DTSTAMP:20260419T145835
CREATED:20130416T182001Z
LAST-MODIFIED:20130416T182001Z
UID:2460-1366644600-1366652700@www.acle.it
SUMMARY:GIFFONI VALLE PIANA
DESCRIPTION:PRIMARY ENGLISH TEACHING IN THE DIGITAL ERA \nRegistrazione online su www.oup.it \nLocandina Oxford \n
URL:https://www.acle.it/event/giffoni-valle-piana/
LOCATION:DIREZIONE DIDATTICA\, PIAZZA GIOVANNI XXIII\, Giffoni Valle Piana\, Italia
ORGANIZER;CN="ACLE%20SUD":MAILTO:sud@acle.it
END:VEVENT
END:VCALENDAR