BEGIN:VCALENDAR
VERSION:2.0
PRODID:-//R.E.A.L. (Rational Emotional Affective Learning) - ECPv5.1.5//NONSGML v1.0//EN
CALSCALE:GREGORIAN
METHOD:PUBLISH
X-WR-CALNAME:R.E.A.L. (Rational Emotional Affective Learning)
X-ORIGINAL-URL:https://www.acle.it
X-WR-CALDESC:Eventi per R.E.A.L. (Rational Emotional Affective Learning)
BEGIN:VTIMEZONE
TZID:Europe/Helsinki
BEGIN:DAYLIGHT
TZOFFSETFROM:+0200
TZOFFSETTO:+0300
TZNAME:EEST
DTSTART:20150329T010000
END:DAYLIGHT
BEGIN:STANDARD
TZOFFSETFROM:+0300
TZOFFSETTO:+0200
TZNAME:EET
DTSTART:20151025T010000
END:STANDARD
END:VTIMEZONE
BEGIN:VEVENT
DTSTART;VALUE=DATE:20151103
DTEND;VALUE=DATE:20151104
DTSTAMP:20260424T150504
CREATED:20151031T103428Z
LAST-MODIFIED:20151031T103428Z
UID:5315-1446508800-1446595199@www.acle.it
SUMMARY:GENOVA
DESCRIPTION:SCARICA PROGRAMMA e SCHEDA DI ISCRIZIONE \n
URL:https://www.acle.it/event/genova-3/
END:VEVENT
END:VCALENDAR