BEGIN:VCALENDAR
VERSION:2.0
PRODID:-//R.E.A.L. (Rational Emotional Affective Learning) - ECPv5.1.5//NONSGML v1.0//EN
CALSCALE:GREGORIAN
METHOD:PUBLISH
X-WR-CALNAME:R.E.A.L. (Rational Emotional Affective Learning)
X-ORIGINAL-URL:https://www.acle.it
X-WR-CALDESC:Eventi per R.E.A.L. (Rational Emotional Affective Learning)
BEGIN:VTIMEZONE
TZID:Europe/Helsinki
BEGIN:DAYLIGHT
TZOFFSETFROM:+0200
TZOFFSETTO:+0300
TZNAME:EEST
DTSTART:20130331T010000
END:DAYLIGHT
BEGIN:STANDARD
TZOFFSETFROM:+0300
TZOFFSETTO:+0200
TZNAME:EET
DTSTART:20131027T010000
END:STANDARD
END:VTIMEZONE
BEGIN:VEVENT
DTSTART;TZID=Europe/Helsinki:20130205T160000
DTEND;TZID=Europe/Helsinki:20130205T190000
DTSTAMP:20260421T192937
CREATED:20121025T164236Z
LAST-MODIFIED:20121029T095607Z
UID:1813-1360080000-1360090800@www.acle.it
SUMMARY:FONDI
DESCRIPTION:Creative Approaches Corso per docenti di Scuola Primaria \nScarica la locandina con  la scheda di iscrizione \nLocandina Corso Fondi \n
URL:https://www.acle.it/event/fondi-2/
LOCATION:I.C. GARIBALDI\, Via Mola di Santa Maria snc\, Fondi\, Italia
ORGANIZER;CN="ACLE%20LAZIO":MAILTO:lazio@acle.it
END:VEVENT
END:VCALENDAR