BEGIN:VCALENDAR
VERSION:2.0
PRODID:-//R.E.A.L. (Rational Emotional Affective Learning) - ECPv5.1.5//NONSGML v1.0//EN
CALSCALE:GREGORIAN
METHOD:PUBLISH
X-WR-CALNAME:R.E.A.L. (Rational Emotional Affective Learning)
X-ORIGINAL-URL:https://www.acle.it
X-WR-CALDESC:Eventi per R.E.A.L. (Rational Emotional Affective Learning)
BEGIN:VTIMEZONE
TZID:Europe/Helsinki
BEGIN:DAYLIGHT
TZOFFSETFROM:+0200
TZOFFSETTO:+0300
TZNAME:EEST
DTSTART:20180325T010000
END:DAYLIGHT
BEGIN:STANDARD
TZOFFSETFROM:+0300
TZOFFSETTO:+0200
TZNAME:EET
DTSTART:20181028T010000
END:STANDARD
END:VTIMEZONE
BEGIN:VEVENT
DTSTART;VALUE=DATE:20181027
DTEND;VALUE=DATE:20181028
DTSTAMP:20260421T160416
CREATED:20181010T132801Z
LAST-MODIFIED:20181010T132832Z
UID:7109-1540598400-1540684799@www.acle.it
SUMMARY:CONCOREZZO
DESCRIPTION:HOW TO ENRICH YOUR ENGLISH LESSONS THROUGH STORYTELLING \n  \nSCARICA PROGRAMMA \nSCARICA SCHEDA DI ISCRIZIONE \n
URL:https://www.acle.it/event/concorezzo-3/
END:VEVENT
END:VCALENDAR