BEGIN:VCALENDAR
VERSION:2.0
PRODID:-//R.E.A.L. (Rational Emotional Affective Learning) - ECPv5.1.5//NONSGML v1.0//EN
CALSCALE:GREGORIAN
METHOD:PUBLISH
X-WR-CALNAME:R.E.A.L. (Rational Emotional Affective Learning)
X-ORIGINAL-URL:https://www.acle.it
X-WR-CALDESC:Eventi per R.E.A.L. (Rational Emotional Affective Learning)
BEGIN:VTIMEZONE
TZID:Europe/Helsinki
BEGIN:DAYLIGHT
TZOFFSETFROM:+0200
TZOFFSETTO:+0300
TZNAME:EEST
DTSTART:20180325T010000
END:DAYLIGHT
BEGIN:STANDARD
TZOFFSETFROM:+0300
TZOFFSETTO:+0200
TZNAME:EET
DTSTART:20181028T010000
END:STANDARD
END:VTIMEZONE
BEGIN:VEVENT
DTSTART;VALUE=DATE:20181017
DTEND;VALUE=DATE:20181018
DTSTAMP:20260421T143835
CREATED:20181001T101541Z
LAST-MODIFIED:20181009T132050Z
UID:6914-1539734400-1539820799@www.acle.it
SUMMARY:BOLOGNA (BO)
DESCRIPTION:HOW TO ENRICH YOUR ENGLISH LESSONS THROUGH STORYTELLING \n  \nSCARICA PROGRAMMA \nSCARICA SCHEDA DI ISCRIZIONE \n
URL:https://www.acle.it/event/concorezzo-2/
END:VEVENT
END:VCALENDAR