BEGIN:VCALENDAR
VERSION:2.0
PRODID:-//R.E.A.L. (Rational Emotional Affective Learning) - ECPv5.1.5//NONSGML v1.0//EN
CALSCALE:GREGORIAN
METHOD:PUBLISH
X-WR-CALNAME:R.E.A.L. (Rational Emotional Affective Learning)
X-ORIGINAL-URL:https://www.acle.it
X-WR-CALDESC:Eventi per R.E.A.L. (Rational Emotional Affective Learning)
BEGIN:VTIMEZONE
TZID:Europe/Helsinki
BEGIN:DAYLIGHT
TZOFFSETFROM:+0200
TZOFFSETTO:+0300
TZNAME:EEST
DTSTART:20180325T010000
END:DAYLIGHT
BEGIN:STANDARD
TZOFFSETFROM:+0300
TZOFFSETTO:+0200
TZNAME:EET
DTSTART:20181028T010000
END:STANDARD
END:VTIMEZONE
BEGIN:VEVENT
DTSTART;VALUE=DATE:20181127
DTEND;VALUE=DATE:20181128
DTSTAMP:20260419T163724
CREATED:20181031T142619Z
LAST-MODIFIED:20181031T142803Z
UID:7275-1543276800-1543363199@www.acle.it
SUMMARY:CHIVASSO (TO)
DESCRIPTION:STRATEGIE PER IL MIGLIORAMENTO DELLE COMPETENZE DI COMPRENSIONE \n  \nSCARICA PROGRAMMA  SCARICA SCHEDA DI ISCRIZIONE \n
URL:https://www.acle.it/event/chivasso-to-2/
END:VEVENT
END:VCALENDAR