BEGIN:VCALENDAR
VERSION:2.0
PRODID:-//R.E.A.L. (Rational Emotional Affective Learning) - ECPv5.1.5//NONSGML v1.0//EN
CALSCALE:GREGORIAN
METHOD:PUBLISH
X-WR-CALNAME:R.E.A.L. (Rational Emotional Affective Learning)
X-ORIGINAL-URL:https://www.acle.it
X-WR-CALDESC:Eventi per R.E.A.L. (Rational Emotional Affective Learning)
BEGIN:VTIMEZONE
TZID:Europe/Helsinki
BEGIN:DAYLIGHT
TZOFFSETFROM:+0200
TZOFFSETTO:+0300
TZNAME:EEST
DTSTART:20120325T010000
END:DAYLIGHT
BEGIN:STANDARD
TZOFFSETFROM:+0300
TZOFFSETTO:+0200
TZNAME:EET
DTSTART:20121028T010000
END:STANDARD
END:VTIMEZONE
BEGIN:VEVENT
DTSTART;TZID=Europe/Helsinki:20121121T143000
DTEND;TZID=Europe/Helsinki:20121121T180000
DTSTAMP:20260421T112419
CREATED:20121023T084022Z
LAST-MODIFIED:20121023T084022Z
UID:1780-1353508200-1353520800@www.acle.it
SUMMARY:CASERTA
DESCRIPTION:CREATING MOTIVATION THROUGH  DRAMA AND PLAY \nScarica locandina e scheda di iscrizione \nlocandina Caserta \nScheda iscrizione Caserta \n
URL:https://www.acle.it/event/caserta-2/
LOCATION:Istituto Salesiano “Sacro Cuore di Maria”\, Via Roma 73 \, Caserta\, Italia
ORGANIZER;CN="ACLE%20SUD":MAILTO:sud@acle.it
END:VEVENT
END:VCALENDAR