BEGIN:VCALENDAR
VERSION:2.0
PRODID:-//R.E.A.L. (Rational Emotional Affective Learning) - ECPv5.1.5//NONSGML v1.0//EN
CALSCALE:GREGORIAN
METHOD:PUBLISH
X-WR-CALNAME:R.E.A.L. (Rational Emotional Affective Learning)
X-ORIGINAL-URL:https://www.acle.it
X-WR-CALDESC:Eventi per R.E.A.L. (Rational Emotional Affective Learning)
BEGIN:VTIMEZONE
TZID:Europe/Helsinki
BEGIN:DAYLIGHT
TZOFFSETFROM:+0200
TZOFFSETTO:+0300
TZNAME:EEST
DTSTART:20130331T010000
END:DAYLIGHT
BEGIN:STANDARD
TZOFFSETFROM:+0300
TZOFFSETTO:+0200
TZNAME:EET
DTSTART:20131027T010000
END:STANDARD
END:VTIMEZONE
BEGIN:VEVENT
DTSTART;TZID=Europe/Helsinki:20130222T160000
DTEND;TZID=Europe/Helsinki:20130222T190000
DTSTAMP:20260419T155707
CREATED:20130115T094051Z
LAST-MODIFIED:20130115T094051Z
UID:2202-1361548800-1361559600@www.acle.it
SUMMARY:BUSCOLDO
DESCRIPTION:CREATING  MOTIVATION THROUGH  DRAMA  AND  PLAY \nCorso per docenti di scuola Primaria e Secondaria di I e II grado. \nScarica locandina e scheda di iscrizione \nLocandina Romina Buscoldo (MN) \nMODULO DI ISCRIZIONE Buscoldo (MN) \n\n \n
URL:https://www.acle.it/event/buscoldo/
LOCATION:c/o Istituto Comprensivo Curtatone\, Via XXV Aprile 1\, Buscoldo (MN)\, Italia
ORGANIZER;CN="ACLE":MAILTO:annalisa@acle.it
END:VEVENT
END:VCALENDAR