BEGIN:VCALENDAR
VERSION:2.0
PRODID:-//R.E.A.L. (Rational Emotional Affective Learning) - ECPv5.1.5//NONSGML v1.0//EN
CALSCALE:GREGORIAN
METHOD:PUBLISH
X-WR-CALNAME:R.E.A.L. (Rational Emotional Affective Learning)
X-ORIGINAL-URL:https://www.acle.it
X-WR-CALDESC:Eventi per R.E.A.L. (Rational Emotional Affective Learning)
BEGIN:VTIMEZONE
TZID:Europe/Helsinki
BEGIN:DAYLIGHT
TZOFFSETFROM:+0200
TZOFFSETTO:+0300
TZNAME:EEST
DTSTART:20130331T010000
END:DAYLIGHT
BEGIN:STANDARD
TZOFFSETFROM:+0300
TZOFFSETTO:+0200
TZNAME:EET
DTSTART:20131027T010000
END:STANDARD
END:VTIMEZONE
BEGIN:VEVENT
DTSTART;TZID=Europe/Helsinki:20130118T153000
DTEND;TZID=Europe/Helsinki:20130118T183000
DTSTAMP:20260421T115010
CREATED:20121127T125150Z
LAST-MODIFIED:20121127T125525Z
UID:1962-1358523000-1358533800@www.acle.it
SUMMARY:BRESCIA
DESCRIPTION:CREATIVE APPROACHES per docenti si Scuola Secondaria di I e II grado\nScarica locandina e scheda di iscrizione\nInvito Corso Secondaria BRESCIA \nMODULO DI ISCRIZIONE Brescia \n
URL:https://www.acle.it/event/brescia-2/
LOCATION:Scuola Primaria “Ungaretti”\, Viale Piave 44\, Brescia\, Italia
ORGANIZER;CN="ACLE":MAILTO:annalisa@acle.it
END:VEVENT
END:VCALENDAR