BEGIN:VCALENDAR
VERSION:2.0
PRODID:-//R.E.A.L. (Rational Emotional Affective Learning) - ECPv5.1.5//NONSGML v1.0//EN
CALSCALE:GREGORIAN
METHOD:PUBLISH
X-WR-CALNAME:R.E.A.L. (Rational Emotional Affective Learning)
X-ORIGINAL-URL:https://www.acle.it
X-WR-CALDESC:Eventi per R.E.A.L. (Rational Emotional Affective Learning)
BEGIN:VTIMEZONE
TZID:Europe/Helsinki
BEGIN:DAYLIGHT
TZOFFSETFROM:+0200
TZOFFSETTO:+0300
TZNAME:EEST
DTSTART:20180325T010000
END:DAYLIGHT
BEGIN:STANDARD
TZOFFSETFROM:+0300
TZOFFSETTO:+0200
TZNAME:EET
DTSTART:20181028T010000
END:STANDARD
END:VTIMEZONE
BEGIN:VEVENT
DTSTART;VALUE=DATE:20181021
DTEND;VALUE=DATE:20181022
DTSTAMP:20260421T144004
CREATED:20181004T105520Z
LAST-MODIFIED:20181004T105552Z
UID:6931-1540080000-1540166399@www.acle.it
SUMMARY:BELLUNO (BL)
DESCRIPTION:DEBRIEFING PER CAMP DIRECTORS\n \n  \nSCARICA PROGRAMMA  SCARICA SCHEDA DI ISCRIZIONE \n
URL:https://www.acle.it/event/belluno-bl/
END:VEVENT
END:VCALENDAR