BEGIN:VCALENDAR
VERSION:2.0
PRODID:-//R.E.A.L. (Rational Emotional Affective Learning) - ECPv5.1.5//NONSGML v1.0//EN
CALSCALE:GREGORIAN
METHOD:PUBLISH
X-WR-CALNAME:R.E.A.L. (Rational Emotional Affective Learning)
X-ORIGINAL-URL:https://www.acle.it
X-WR-CALDESC:Eventi per R.E.A.L. (Rational Emotional Affective Learning)
BEGIN:VTIMEZONE
TZID:Europe/Helsinki
BEGIN:DAYLIGHT
TZOFFSETFROM:+0200
TZOFFSETTO:+0300
TZNAME:EEST
DTSTART:20180325T010000
END:DAYLIGHT
BEGIN:STANDARD
TZOFFSETFROM:+0300
TZOFFSETTO:+0200
TZNAME:EET
DTSTART:20181028T010000
END:STANDARD
END:VTIMEZONE
BEGIN:VEVENT
DTSTART;VALUE=DATE:20180724
DTEND;VALUE=DATE:20180729
DTSTAMP:20260421T223641
CREATED:20180510T123346Z
LAST-MODIFIED:20180510T124002Z
UID:6641-1532390400-1532822399@www.acle.it
SUMMARY:BAJARDO (IM)
DESCRIPTION:SPEAKING AND DRAMA ACTIVITIES –  per Docenti della scuola Secondaria \nScarica programma e Scheda di iscrizione \n
URL:https://www.acle.it/event/bajardo-im-6/
END:VEVENT
END:VCALENDAR