BEGIN:VCALENDAR
VERSION:2.0
PRODID:-//R.E.A.L. (Rational Emotional Affective Learning) - ECPv5.1.5//NONSGML v1.0//EN
CALSCALE:GREGORIAN
METHOD:PUBLISH
X-WR-CALNAME:R.E.A.L. (Rational Emotional Affective Learning)
X-ORIGINAL-URL:https://www.acle.it
X-WR-CALDESC:Eventi per R.E.A.L. (Rational Emotional Affective Learning)
BEGIN:VTIMEZONE
TZID:Europe/Helsinki
BEGIN:DAYLIGHT
TZOFFSETFROM:+0200
TZOFFSETTO:+0300
TZNAME:EEST
DTSTART:20120325T010000
END:DAYLIGHT
BEGIN:STANDARD
TZOFFSETFROM:+0300
TZOFFSETTO:+0200
TZNAME:EET
DTSTART:20121028T010000
END:STANDARD
END:VTIMEZONE
BEGIN:VEVENT
DTSTART;VALUE=DATE:20121123
DTEND;VALUE=DATE:20121124
DTSTAMP:20260421T143250
CREATED:20121019T092702Z
LAST-MODIFIED:20121029T094824Z
UID:1596-1353628800-1353715199@www.acle.it
SUMMARY:AVELLINO
DESCRIPTION:Creating motivation through Drama and Play -Corso  per docenti di Primaria e Secondaria I grado\nScarica la locandina e la scheda di iscrizione \nLocandina Avellino1 \nSCHEDA DI ISCRIZIONE Avellino \n  \n  \n  \n
URL:https://www.acle.it/event/avellino/
LOCATION:Istituto Comprensivo “Perna-Alighieri”\, Via Maffucci\, 5 Avellino\, AVELLINO\, Italia
ORGANIZER;CN="ACLE%20SUD":MAILTO:sud@acle.it
END:VEVENT
END:VCALENDAR