BEGIN:VCALENDAR
VERSION:2.0
PRODID:-//R.E.A.L. (Rational Emotional Affective Learning) - ECPv5.1.5//NONSGML v1.0//EN
CALSCALE:GREGORIAN
METHOD:PUBLISH
X-WR-CALNAME:R.E.A.L. (Rational Emotional Affective Learning)
X-ORIGINAL-URL:https://www.acle.it
X-WR-CALDESC:Eventi per R.E.A.L. (Rational Emotional Affective Learning)
BEGIN:VTIMEZONE
TZID:Europe/Helsinki
BEGIN:DAYLIGHT
TZOFFSETFROM:+0200
TZOFFSETTO:+0300
TZNAME:EEST
DTSTART:20190331T010000
END:DAYLIGHT
BEGIN:STANDARD
TZOFFSETFROM:+0300
TZOFFSETTO:+0200
TZNAME:EET
DTSTART:20191027T010000
END:STANDARD
END:VTIMEZONE
BEGIN:VEVENT
DTSTART;VALUE=DATE:20190116
DTEND;VALUE=DATE:20190121
DTSTAMP:20260419T131958
CREATED:20181113T090005Z
LAST-MODIFIED:20181129T093753Z
UID:7353-1547596800-1548028799@www.acle.it
SUMMARY:FINLANDIA
DESCRIPTION:ACLE a Jyväskylä \n  \nL’UNIVERSITÀ DOVE NASCE UNO DEI MIGLIORI SISTEMI EDUCATIVI DEL MONDO \n  \nSCARICA PROGRAMMA e SCHEDA DI ISCRIZIONE \nPosti esauriti. \n
URL:https://www.acle.it/event/7353/
END:VEVENT
END:VCALENDAR