BEGIN:VCALENDAR
VERSION:2.0
PRODID:-//R.E.A.L. (Rational Emotional Affective Learning) - ECPv5.1.5//NONSGML v1.0//EN
CALSCALE:GREGORIAN
METHOD:PUBLISH
X-WR-CALNAME:R.E.A.L. (Rational Emotional Affective Learning)
X-ORIGINAL-URL:https://www.acle.it
X-WR-CALDESC:Eventi per R.E.A.L. (Rational Emotional Affective Learning)
BEGIN:VTIMEZONE
TZID:Europe/Helsinki
BEGIN:DAYLIGHT
TZOFFSETFROM:+0200
TZOFFSETTO:+0300
TZNAME:EEST
DTSTART:20130331T010000
END:DAYLIGHT
BEGIN:STANDARD
TZOFFSETFROM:+0300
TZOFFSETTO:+0200
TZNAME:EET
DTSTART:20131027T010000
END:STANDARD
END:VTIMEZONE
BEGIN:VEVENT
DTSTART;TZID=Europe/Helsinki:20130222T150000
DTEND;TZID=Europe/Helsinki:20130222T180000
DTSTAMP:20260419T152026
CREATED:20130214T180953Z
LAST-MODIFIED:20130214T181512Z
UID:2346-1361545200-1361556000@www.acle.it
SUMMARY:TORINO
DESCRIPTION:HOW TO BECAME A CITY CAMP DIRECTOR \nCorso finalizzato alla proposta City Camp per docenti di lingua inglese \nScarica locandina e scheda iscrizione \nINVITO INFO DAY TORINO \nSCHEDA ISCRIZIONE INFO DAY TORINO \n
URL:https://www.acle.it/event/2346/
LOCATION:Istituto Comprensivo A. Cairoli\, Via Torrazza Piemonte\, 10\, Torino\, Italia
ORGANIZER;CN="ACLE":MAILTO:formazione@acle.it
END:VEVENT
END:VCALENDAR