BEGIN:VCALENDAR
VERSION:2.0
PRODID:-//R.E.A.L. (Rational Emotional Affective Learning) - ECPv5.1.5//NONSGML v1.0//EN
CALSCALE:GREGORIAN
METHOD:PUBLISH
X-WR-CALNAME:R.E.A.L. (Rational Emotional Affective Learning)
X-ORIGINAL-URL:https://www.acle.it
X-WR-CALDESC:Eventi per R.E.A.L. (Rational Emotional Affective Learning)
BEGIN:VTIMEZONE
TZID:Europe/Helsinki
BEGIN:DAYLIGHT
TZOFFSETFROM:+0200
TZOFFSETTO:+0300
TZNAME:EEST
DTSTART:20130331T010000
END:DAYLIGHT
BEGIN:STANDARD
TZOFFSETFROM:+0300
TZOFFSETTO:+0200
TZNAME:EET
DTSTART:20131027T010000
END:STANDARD
END:VTIMEZONE
BEGIN:VEVENT
DTSTART;TZID=Europe/Helsinki:20130225T160000
DTEND;TZID=Europe/Helsinki:20130225T190000
DTSTAMP:20260419T173916
CREATED:20130114T124448Z
LAST-MODIFIED:20130115T091423Z
UID:2189-1361808000-1361818800@www.acle.it
SUMMARY:MILANO
DESCRIPTION:CREATING  MOTIVATION THROUGH  DRAMA  AND  PLAY \nCorso per docenti scuola Primaria e Secondaria di I grado \nScarica locandina e iscrizione \nLocandina Romina Milano 25.02.2013 \nMODULO DI ISCRIZIONE Romina Milano \n\n
URL:https://www.acle.it/event/2189/
LOCATION:c/o Scuola Primaria Maria Consolatrice\, Via Ampezzo 8 (ingresso in Via Nuvolone\, angolo via Ampezzo)\, Milano\, Italia
ORGANIZER;CN="ACLE":MAILTO:annalisa@acle.it
END:VEVENT
END:VCALENDAR