BEGIN:VCALENDAR
VERSION:2.0
PRODID:-//R.E.A.L. (Rational Emotional Affective Learning) - ECPv5.1.5//NONSGML v1.0//EN
CALSCALE:GREGORIAN
METHOD:PUBLISH
X-WR-CALNAME:R.E.A.L. (Rational Emotional Affective Learning)
X-ORIGINAL-URL:https://www.acle.it
X-WR-CALDESC:Eventi per R.E.A.L. (Rational Emotional Affective Learning)
BEGIN:VTIMEZONE
TZID:Europe/Helsinki
BEGIN:DAYLIGHT
TZOFFSETFROM:+0200
TZOFFSETTO:+0300
TZNAME:EEST
DTSTART:20130331T010000
END:DAYLIGHT
BEGIN:STANDARD
TZOFFSETFROM:+0300
TZOFFSETTO:+0200
TZNAME:EET
DTSTART:20131027T010000
END:STANDARD
END:VTIMEZONE
BEGIN:VEVENT
DTSTART;TZID=Europe/Helsinki:20130109T153000
DTEND;TZID=Europe/Helsinki:20130109T183000
DTSTAMP:20260421T125650
CREATED:20121019T135651Z
LAST-MODIFIED:20121029T095305Z
UID:1657-1357745400-1357756200@www.acle.it
SUMMARY:ISOLA DELLA SCALA -VR-
DESCRIPTION:Creative Approaches Corso formazione per docenti Secondaria I° grado \nScarica locandina e scheda di iscrizione \nInvito Corso formazione 2012-13 Verona \n
URL:https://www.acle.it/event/1657/
END:VEVENT
END:VCALENDAR